View In:
ArcGIS JavaScript
ArcGIS Online Map Viewer
ArcGIS Earth
Service Description: bag_hillshades_subsets
Name: bag_hillshades_subsets
Description:
Single Fused Map Cache: false
Extent:
XMin: -177.50334618899998
YMin: -14.634016287859112
XMax: 166.66416166076684
YMax: 72.80155139600004
Spatial Reference: 4326
(4326)
Initial Extent:
XMin: -177.50334618899998
YMin: -14.634016287859112
XMax: 166.66416166076684
YMax: 72.80155139600004
Spatial Reference: 4326
(4326)
Full Extent:
XMin: -177.50334618899998
YMin: -14.634016287859112
XMax: 166.66416166076684
YMax: 72.80155139600004
Spatial Reference: 4326
(4326)
Pixel Size X: 7.324683163653759E-7
Pixel Size Y: 7.324683163653758E-7
Band Count: 1
Pixel Type: F32
RasterFunction Infos: {"rasterFunctionInfos": [
{
"name": "ColorHillshadeBAG",
"description": "An elevation-tinted shaded relief visualization, using Esri's \"multidirectional hillshade\". The elevation/depth is displayed using this color ramp: https://gis.ngdc.noaa.gov/viewers/images/bag_hillshades_color_scale.png. This color ramp was adapted from the \"bukavu\" color ramp from: https://www.fabiocrameri.ch/colourmaps/.",
"help": ""
},
{
"name": "None",
"description": "Make a Raster or Raster Dataset into a Function Raster Dataset.",
"help": ""
},
{
"name": "ColorHillshadeBAG_lapaz",
"description": "An elevation-tinted shaded relief visualization, using Esri's \"multidirectional hillshade\". The elevation/depth is displayed using this color ramp: https://gis.ngdc.noaa.gov/viewers/images/bag_hillshades_lapaz_scale.png. This color ramp was adapted from the \"lapaz\" color ramp from: https://www.fabiocrameri.ch/colourmaps/.",
"help": ""
},
{
"name": "ColorHillshadeBAG_rainbow",
"description": "An elevation-tinted shaded relief visualization, using Esri's \"multidirectional hillshade\". The elevation/depth is displayed using this color ramp: https://gis.ngdc.noaa.gov/viewers/images/bag_hillshades_rainbow_scale.png",
"help": ""
}
]}
Mensuration Capabilities: Basic
Has Histograms: false
Has Colormap: false
Has Multi Dimensions : false
Rendering Rule:
Min Scale: 0
Max Scale: 0
Copyright Text:
Service Data Type: esriImageServiceDataTypeGeneric
Min Values: N/A
Max Values: N/A
Mean Values: N/A
Standard Deviation Values: N/A
Object ID Field: OBJECTID
Fields:
-
OBJECTID
(
type: esriFieldTypeOID, alias: OBJECTID
)
-
Shape
(
type: esriFieldTypeGeometry, alias: Shape
)
-
Name
(
type: esriFieldTypeString, alias: Name, length: 200
)
-
MinPS
(
type: esriFieldTypeDouble, alias: MinPS
)
-
MaxPS
(
type: esriFieldTypeDouble, alias: MaxPS
)
-
LowPS
(
type: esriFieldTypeDouble, alias: LowPS
)
-
HighPS
(
type: esriFieldTypeDouble, alias: HighPS
)
-
Category
(
type: esriFieldTypeInteger, alias: Category
, Coded Values:
[0: Unknown]
, [1: Primary]
, [2: Overview]
, ...6 more...
)
-
Tag
(
type: esriFieldTypeString, alias: Tag, length: 100
)
-
GroupName
(
type: esriFieldTypeString, alias: GroupName, length: 100
)
-
ProductName
(
type: esriFieldTypeString, alias: ProductName, length: 100
)
-
CenterX
(
type: esriFieldTypeDouble, alias: CenterX
)
-
CenterY
(
type: esriFieldTypeDouble, alias: CenterY
)
-
ZOrder
(
type: esriFieldTypeInteger, alias: ZOrder
)
-
Shape_Length
(
type: esriFieldTypeDouble, alias: Shape_Length
)
-
Shape_Area
(
type: esriFieldTypeDouble, alias: Shape_Area
)
-
SurveyID
(
type: esriFieldTypeString, alias: SurveyID, length: 10
)
Default Mosaic Method: ByAttribute
Allowed Mosaic Methods: ByAttribute,LockRaster
SortField: LowPS
SortValue:
Mosaic Operator: First
Default Compression Quality: 75
Default Resampling Method: Bilinear
Max Record Count: 1000
Max Image Height: 20000
Max Image Width: 20000
Max Download Image Count: 20
Max Mosaic Image Count: 100
Allow Raster Function: true
Allow Copy: true
Allow Analysis: true
Allow Compute TiePoints: false
Supports Statistics: true
Supports Advanced Queries: true
Use StandardizedQueries: true
Raster Type Infos:
Name: Raster Dataset
Description: Supports all ArcGIS Raster Datasets
Help:
Has Raster Attribute Table: false
Edit Fields Info: null
Ownership Based AccessControl For Rasters: null
Child Resources:
Info
Statistics
Key Properties
Legend
Raster Function Infos
Supported Operations:
Export Image
Query
Identify
Measure
Compute Histograms
Compute Statistics Histograms
Get Samples
Compute Class Statistics
Query Boundary
Compute Pixel Location
Compute Angles
Validate
Project