View In:
ArcGIS JavaScript
ArcGIS Online Map Viewer
ArcGIS Earth
Service Description: DEM_mosaics/ETOPO1_ice_surface
Name: DEM_mosaics/ETOPO1_ice_surface
Description:
Single Fused Map Cache: false
Extent:
XMin: -180.00833333333333
YMin: -90.00833333333328
XMax: 180.00833333333333
YMax: 90.00833333333334
Spatial Reference: 4326
(4326)
Initial Extent:
XMin: -180.00833333333333
YMin: -90.00833333333328
XMax: 180.00833333333333
YMax: 90.00833333333334
Spatial Reference: 4326
(4326)
Full Extent:
XMin: -180.00833333333333
YMin: -90.00833333333328
XMax: 180.00833333333333
YMax: 90.00833333333334
Spatial Reference: 4326
(4326)
Pixel Size X: 0.016666666666666666
Pixel Size Y: 0.016666666666666663
Band Count: 1
Pixel Type: S16
RasterFunction Infos: {"rasterFunctionInfos": [{
"name": "None",
"description": "",
"help": ""
}]}
Mensuration Capabilities: Basic
Has Histograms: true
Has Colormap: false
Has Multi Dimensions : false
Rendering Rule:
Min Scale: 0
Max Scale: 0
Copyright Text:
Service Data Type: esriImageServiceDataTypeGeneric
Min Values: -10898
Max Values: 8271
Mean Values: -1892.35284683
Standard Deviation Values: 2650.1402822889
Object ID Field:
Fields:
None
Default Mosaic Method: Center
Allowed Mosaic Methods:
SortField:
SortValue: null
Mosaic Operator: First
Default Compression Quality: 90
Default Resampling Method: Bilinear
Max Record Count: null
Max Image Height: 20000
Max Image Width: 20000
Max Download Image Count: null
Max Mosaic Image Count: null
Allow Raster Function: true
Allow Copy: true
Allow Analysis: true
Allow Compute TiePoints: false
Supports Statistics: false
Supports Advanced Queries: false
Use StandardizedQueries: true
Raster Type Infos:
Name: Raster Dataset
Description: Supports all ArcGIS Raster Datasets
Help:
Has Raster Attribute Table: false
Edit Fields Info: null
Ownership Based AccessControl For Rasters: null
Child Resources:
Info
Histograms
Statistics
Key Properties
Legend
Raster Function Infos
Supported Operations:
Export Image
Identify
Measure
Compute Histograms
Compute Statistics Histograms
Get Samples
Compute Class Statistics
Query Boundary
Compute Pixel Location
Compute Angles
Validate
Project