View In:
ArcGIS JavaScript
ArcGIS Online Map Viewer
ArcGIS Earth
Service Description: multibeam_mosaic_subsets
Name: multibeam_mosaic_subsets
Description:
Single Fused Map Cache: false
Extent:
XMin: -180
YMin: -78.9325
XMax: 180
YMax: 90
Spatial Reference: 4326
(4326)
Initial Extent:
XMin: -180
YMin: -78.9325
XMax: 180
YMax: 90
Spatial Reference: 4326
(4326)
Full Extent:
XMin: -180
YMin: -78.9325
XMax: 180
YMax: 90
Spatial Reference: 4326
(4326)
Pixel Size X: 8.333333333333334E-4
Pixel Size Y: 8.333333333333334E-4
Band Count: 1
Pixel Type: F32
RasterFunction Infos: {"rasterFunctionInfos": [
{
"name": "MultidirectionalHillshadeHaxby_8000-0",
"description": "Multidirectional Color Hillshade (Haxby color palette, range 8000-0m)",
"help": "An elevation-tinted shaded relief visualization, using Esri's \"multidirectional hillshade\". The depths are displayed using this color ramp: https://maps.ngdc.noaa.gov/viewers/images/haxby_color_scale_8000-0.png"
},
{
"name": "None",
"description": "Make a Raster or Raster Dataset into a Function Raster Dataset.",
"help": ""
},
{
"name": "MultidirectionalHillshadeBlues_1000-0",
"description": "Multidirectional Color Hillshade (blue color palette, range 1000-0m)",
"help": "An elevation-tinted shaded relief visualization, using Esri's \"multidirectional hillshade\". The depths are displayed using this color ramp: https://maps.ngdc.noaa.gov/viewers/images/blue_color_scale_1000-0.png"
},
{
"name": "MultidirectionalHillshadeBlues_2000-0",
"description": "Multidirectional Color Hillshade (blue color palette, range 2000-0m)",
"help": "An elevation-tinted shaded relief visualization, using Esri's \"multidirectional hillshade\". The depths are displayed using this color ramp: https://maps.ngdc.noaa.gov/viewers/images/blue_color_scale_2000-0.png"
},
{
"name": "MultidirectionalHillshadeBlues_5000-0",
"description": "Multidirectional Color Hillshade (blue color palette, range 5000-0m)",
"help": "An elevation-tinted shaded relief visualization, using Esri's \"multidirectional hillshade\". The depths are displayed using this color ramp: https://maps.ngdc.noaa.gov/viewers/images/blue_color_scale_5000-0.png"
},
{
"name": "MultidirectionalHillshadeBlues_8000-0",
"description": "Multidirectional Color Hillshade (blue color palette, range 8000-0m)",
"help": "An elevation-tinted shaded relief visualization, using Esri's \"multidirectional hillshade\". The depths are displayed using this color ramp: https://maps.ngdc.noaa.gov/viewers/images/blue_color_scale_8000-0.png"
},
{
"name": "MultidirectionalHillshadeBluesDRA",
"description": "Multidirectional Color Hillshade (blue color palette, dynamic range adjustment)",
"help": "An elevation-tinted shaded relief visualization, using Esri's \"multidirectional hillshade\". The depths are displayed using this color ramp: https://maps.ngdc.noaa.gov/viewers/images/blue_color_scale.png, scaled to the min/max depth in the current view (dynamic range adjustment)."
},
{
"name": "MultidirectionalHillshadeDarkBlues_1000-0",
"description": "Multidirectional Color Hillshade (dark blue color palette, range 1000-0m)",
"help": "An elevation-tinted shaded relief visualization, using Esri's \"multidirectional hillshade\". The depths are displayed using this color ramp: https://maps.ngdc.noaa.gov/viewers/images/dark_blue_color_scale_1000-0.png"
},
{
"name": "MultidirectionalHillshadeDarkBlues_2000-0",
"description": "Multidirectional Color Hillshade (dark blue color palette, range 2000-0m)",
"help": "An elevation-tinted shaded relief visualization, using Esri's \"multidirectional hillshade\". The depths are displayed using this color ramp: https://maps.ngdc.noaa.gov/viewers/images/dark_blue_color_scale_2000-0.png"
},
{
"name": "MultidirectionalHillshadeDarkBlues_5000-0",
"description": "Multidirectional Color Hillshade (dark blue color palette, range 5000-0m)",
"help": "An elevation-tinted shaded relief visualization, using Esri's \"multidirectional hillshade\". The depths are displayed using this color ramp: https://maps.ngdc.noaa.gov/viewers/images/dark_blue_color_scale_5000-0.png"
},
{
"name": "MultidirectionalHillshadeDarkBlues_8000-0",
"description": "Multidirectional Color Hillshade (dark blue color palette, range 8000-0m)",
"help": "An elevation-tinted shaded relief visualization, using Esri's \"multidirectional hillshade\". The depths are displayed using this color ramp: https://maps.ngdc.noaa.gov/viewers/images/dark_blue_color_scale_8000-0.png"
},
{
"name": "MultidirectionalHillshadeDarkBluesDRA",
"description": "Multidirectional Color Hillshade (dark blue color palette, dynamic range adjustment)",
"help": "An elevation-tinted shaded relief visualization, using Esri's \"multidirectional hillshade\". The depths are displayed using this color ramp: https://maps.ngdc.noaa.gov/viewers/images/dark_blue_color_scale.png, scaled to the min/max depth in the current view (dynamic range adjustment)."
},
{
"name": "MultidirectionalHillshadeHaxby_1000-0",
"description": "Multidirectional Color Hillshade (Haxby color palette, range 1000-0m)",
"help": ""
},
{
"name": "MultidirectionalHillshadeHaxby_2000-0",
"description": "Multidirectional Color Hillshade (Haxby color palette, range 2000-0m)",
"help": "An elevation-tinted shaded relief visualization, using Esri's \"multidirectional hillshade\". The depths are displayed using this color ramp: https://maps.ngdc.noaa.gov/viewers/images/haxby_color_scale_2000-0.png"
},
{
"name": "MultidirectionalHillshadeHaxby_5000-0",
"description": "Multidirectional Color Hillshade (Haxby color palette, range 5000-0m)",
"help": "An elevation-tinted shaded relief visualization, using Esri's \"multidirectional hillshade\". The depths are displayed using this color ramp: https://maps.ngdc.noaa.gov/viewers/images/haxby_color_scale_5000-0.png"
},
{
"name": "MultidirectionalHillshadeHaxbyDRA",
"description": "Multidirectional Color Hillshade (Haxby color palette, dynamic range adjustment)",
"help": "An elevation-tinted shaded relief visualization, using Esri's \"multidirectional hillshade\". The depths are displayed using this color ramp: https://maps.ngdc.noaa.gov/viewers/images/haxby_color_scale.png, scaled to the min/max depth in the current view (dynamic range adjustment)."
},
{
"name": "MultidirectionalHillshadePurpleBlue_1000-0",
"description": "Multidirectional Color Hillshade (Haxby color palette, range 1000-0m)",
"help": "An elevation-tinted shaded relief visualization, using Esri's \"multidirectional hillshade\". The depths are displayed using this color ramp: https://maps.ngdc.noaa.gov/viewers/images/purple_blue_color_scale_1000-0.png"
},
{
"name": "MultidirectionalHillshadePurpleBlue_2000-0",
"description": "Multidirectional Color Hillshade (Haxby color palette, range 2000-0m)",
"help": "An elevation-tinted shaded relief visualization, using Esri's \"multidirectional hillshade\". The depths are displayed using this color ramp: https://maps.ngdc.noaa.gov/viewers/images/purple_blue_color_scale_2000-0.png"
},
{
"name": "MultidirectionalHillshadePurpleBlue_5000-0",
"description": "Multidirectional Color Hillshade (Haxby color palette, range 5000-0m)",
"help": "An elevation-tinted shaded relief visualization, using Esri's \"multidirectional hillshade\". The depths are displayed using this color ramp: https://maps.ngdc.noaa.gov/viewers/images/purple_blue_color_scale_5000-0.png"
},
{
"name": "MultidirectionalHillshadePurpleBlue_8000-0",
"description": "Multidirectional Color Hillshade (Haxby color palette, range 8000-0m)",
"help": "An elevation-tinted shaded relief visualization, using Esri's \"multidirectional hillshade\". The depths are displayed using this color ramp: https://maps.ngdc.noaa.gov/viewers/images/purple_blue_color_scale_8000-0.png"
},
{
"name": "MultidirectionalHillshadePurpleBlueDRA",
"description": "Multidirectional Color Hillshade (purple-blue color palette, dynamic range adjustment).",
"help": "An elevation-tinted shaded relief visualization, using Esri's \"multidirectional hillshade\". The depths are displayed using this color ramp: https://maps.ngdc.noaa.gov/viewers/images/purple_blue_color_scale.png, scaled to the min/max depth in the current view (dynamic range adjustment)."
}
]}
Mensuration Capabilities: Basic
Has Histograms: false
Has Colormap: false
Has Multi Dimensions : false
Rendering Rule:
Min Scale: 0
Max Scale: 0
Copyright Text:
Service Data Type: esriImageServiceDataTypeGeneric
Min Values: N/A
Max Values: N/A
Mean Values: N/A
Standard Deviation Values: N/A
Object ID Field: OBJECTID
Fields:
-
OBJECTID
(
type: esriFieldTypeOID, alias: OBJECTID
)
-
Shape
(
type: esriFieldTypeGeometry, alias: Shape
)
-
Name
(
type: esriFieldTypeString, alias: Name, length: 200
)
-
MinPS
(
type: esriFieldTypeDouble, alias: MinPS
)
-
MaxPS
(
type: esriFieldTypeDouble, alias: MaxPS
)
-
LowPS
(
type: esriFieldTypeDouble, alias: LowPS
)
-
HighPS
(
type: esriFieldTypeDouble, alias: HighPS
)
-
Category
(
type: esriFieldTypeInteger, alias: Category
,
Coded Values:
[0: Unknown]
,
[1: Primary]
,
[2: Overview]
, ...6 more...
)
-
Tag
(
type: esriFieldTypeString, alias: Tag, length: 100
)
-
GroupName
(
type: esriFieldTypeString, alias: GroupName, length: 100
)
-
ProductName
(
type: esriFieldTypeString, alias: ProductName, length: 100
)
-
CenterX
(
type: esriFieldTypeDouble, alias: CenterX
)
-
CenterY
(
type: esriFieldTypeDouble, alias: CenterY
)
-
ZOrder
(
type: esriFieldTypeInteger, alias: ZOrder
)
-
Shape_Length
(
type: esriFieldTypeDouble, alias: Shape_Length
)
-
Shape_Area
(
type: esriFieldTypeDouble, alias: Shape_Area
)
-
NCEI_ID
(
type: esriFieldTypeString, alias: NCEI_ID, length: 8
)
-
SURVEY_ID
(
type: esriFieldTypeString, alias: SURVEY_ID, length: 100
)
-
PLATFORM
(
type: esriFieldTypeString, alias: PLATFORM, length: 100
)
-
SOURCE
(
type: esriFieldTypeString, alias: SOURCE, length: 200
)
-
CHIEF_SCIENTIST
(
type: esriFieldTypeString, alias: CHIEF_SCIENTIST, length: 200
)
-
INSTRUMENT
(
type: esriFieldTypeString, alias: INSTRUMENT, length: 100
)
-
START_TIME
(
type: esriFieldTypeDate, alias: START_TIME, length: 8
)
-
END_TIME
(
type: esriFieldTypeDate, alias: END_TIME, length: 8
)
-
SURVEY_YEAR
(
type: esriFieldTypeInteger, alias: SURVEY_YEAR
)
-
ENTERED_DATE
(
type: esriFieldTypeDate, alias: ENTERED_DATE, length: 8
)
-
Version
(
type: esriFieldTypeSmallInteger, alias: Version
)
-
Min
(
type: esriFieldTypeSingle, alias: Min
)
-
Max
(
type: esriFieldTypeSingle, alias: Max
)
-
StdDev
(
type: esriFieldTypeSingle, alias: StdDev
)
-
Mean
(
type: esriFieldTypeSingle, alias: Mean
)
Default Mosaic Method: Northwest
Allowed Mosaic Methods: NorthWest
SortField:
SortValue: null
Mosaic Operator: Mean
Default Compression Quality: 5000
Default Resampling Method: Bilinear
Max Record Count: 1000
Max Image Height: 20000
Max Image Width: 20000
Max Download Image Count: 20
Max Mosaic Image Count: 100
Allow Raster Function: true
Allow Copy: true
Allow Analysis: true
Allow Compute TiePoints: false
Supports Statistics: true
Supports Advanced Queries: true
Use StandardizedQueries: true
Raster Type Infos:
Name: Raster Dataset
Description: Supports all ArcGIS Raster Datasets
Help:
Has Raster Attribute Table: false
Edit Fields Info: null
Ownership Based AccessControl For Rasters: null
Child Resources:
Info
Statistics
Key Properties
Legend
Raster Function Infos
Supported Operations:
Export Image
Query
Identify
Measure
Compute Histograms
Compute Statistics Histograms
Get Samples
Compute Class Statistics
Query Boundary
Compute Pixel Location
Compute Angles
Validate
Project