View In:
ArcGIS JavaScript
ArcGIS Online Map Viewer
ArcGIS Earth
Service Description: OceanExploration/okeanos_explorer_grids_daily
Name: OceanExploration/okeanos_explorer_grids_daily
Description:
Single Fused Map Cache: false
Extent:
XMin: -180
YMin: 15.57624800000007
XMax: 179.99999999999864
YMax: 60.7740479999999
Spatial Reference: 4326
(4326)
Initial Extent:
XMin: -180
YMin: 15.57624800000007
XMax: 179.99999999999864
YMax: 60.7740479999999
Spatial Reference: 4326
(4326)
Full Extent:
XMin: -180
YMin: 15.57624800000007
XMax: 179.99999999999864
YMax: 60.7740479999999
Spatial Reference: 4326
(4326)
Pixel Size X: 1.9999999999999925E-4
Pixel Size Y: 1.9999999999999925E-4
Band Count: 1
Pixel Type: F32
RasterFunction Infos: {"rasterFunctionInfos": [
{
"name": "MultidirectionalHillshadeHaxbyDRA",
"description": "Multidirectional Color Hillshade (Haxby color palette, dynamic range adjustment)",
"help": "An elevation-tinted shaded relief visualization, using Esri's \"multidirectional hillshade\". The depths are displayed using this color ramp: https://maps.ngdc.noaa.gov/viewers/images/haxby_color_scale.png, scaled to the min/max depth in the current view (dynamic range adjustment)."
},
{
"name": "MultidirectionalHillshadeBluesDRA",
"description": "Multidirectional Color Hillshade (blue color palette, dynamic range adjustment)",
"help": "An elevation-tinted shaded relief visualization, using Esri's \"multidirectional hillshade\". The depths are displayed using this color ramp: https://maps.ngdc.noaa.gov/viewers/images/blue_color_scale.png, scaled to the min/max depth in the current view (dynamic range adjustment)."
},
{
"name": "MultidirectionalHillshadeDarkBluesDRA",
"description": "Multidirectional Color Hillshade (dark blue color palette, dynamic range adjustment)",
"help": "An elevation-tinted shaded relief visualization, using Esri's \"multidirectional hillshade\". The depths are displayed using this color ramp: https://maps.ngdc.noaa.gov/viewers/images/dark_blue_color_scale.png, scaled to the min/max depth in the current view (dynamic range adjustment)."
},
{
"name": "MultidirectionalHillshadePurpleBlueDRA",
"description": "Multidirectional Color Hillshade (purple-blue color palette, dynamic range adjustment).",
"help": "An elevation-tinted shaded relief visualization, using Esri's \"multidirectional hillshade\". The depths are displayed using this color ramp: https://maps.ngdc.noaa.gov/viewers/images/purple_blue_color_scale.png, scaled to the min/max depth in the current view (dynamic range adjustment)."
},
{
"name": "MultidirectionalHillshadeHaxby_8000-0",
"description": "Multidirectional Color Hillshade (Haxby color palette, range 8000-0m)",
"help": "An elevation-tinted shaded relief visualization, using Esri's \"multidirectional hillshade\". The depths are displayed using this color ramp: https://maps.ngdc.noaa.gov/viewers/images/haxby_color_scale_8000-0.png"
},
{
"name": "MultidirectionalHillshadeBlues_8000-0",
"description": "Multidirectional Color Hillshade (blue color palette, range 8000-0m)",
"help": "An elevation-tinted shaded relief visualization, using Esri's \"multidirectional hillshade\". The depths are displayed using this color ramp: https://maps.ngdc.noaa.gov/viewers/images/blue_color_scale_8000-0.png"
},
{
"name": "MultidirectionalHillshadeDarkBlues_8000-0",
"description": "Multidirectional Color Hillshade (dark blue color palette, range 8000-0m)",
"help": "An elevation-tinted shaded relief visualization, using Esri's \"multidirectional hillshade\". The depths are displayed using this color ramp: https://maps.ngdc.noaa.gov/viewers/images/dark_blue_color_scale_8000-0.png"
},
{
"name": "MultidirectionalHillshadePurpleBlue_8000-0",
"description": "Multidirectional Color Hillshade (Haxby color palette, range 8000-0m)",
"help": "An elevation-tinted shaded relief visualization, using Esri's \"multidirectional hillshade\". The depths are displayed using this color ramp: https://maps.ngdc.noaa.gov/viewers/images/purple_blue_color_scale_8000-0.png"
},
{
"name": "None",
"description": "A No-Op Function.",
"help": ""
}
]}
Mensuration Capabilities: Basic
Has Histograms: true
Has Colormap: false
Has Multi Dimensions : false
Rendering Rule:
Min Scale: 0
Max Scale: 0
Copyright Text:
Service Data Type: esriImageServiceDataTypeGeneric
Min Values: -3554.564208984375
Max Values: -70.05580139160156
Mean Values: -1024.1197335202444
Standard Deviation Values: 711.6170936721486
Object ID Field: OBJECTID
Fields:
-
OBJECTID
(
type: esriFieldTypeOID, alias: OBJECTID
)
-
Shape
(
type: esriFieldTypeGeometry, alias: Shape
)
-
Name
(
type: esriFieldTypeString, alias: Name, length: 200
)
-
MinPS
(
type: esriFieldTypeDouble, alias: MinPS
)
-
MaxPS
(
type: esriFieldTypeDouble, alias: MaxPS
)
-
LowPS
(
type: esriFieldTypeDouble, alias: LowPS
)
-
HighPS
(
type: esriFieldTypeDouble, alias: HighPS
)
-
Category
(
type: esriFieldTypeInteger, alias: Category
, Coded Values:
[0: Unknown]
, [1: Primary]
, [2: Overview]
, ...6 more...
)
-
Tag
(
type: esriFieldTypeString, alias: Tag, length: 100
)
-
GroupName
(
type: esriFieldTypeString, alias: GroupName, length: 100
)
-
ProductName
(
type: esriFieldTypeString, alias: ProductName, length: 100
)
-
CenterX
(
type: esriFieldTypeDouble, alias: CenterX
)
-
CenterY
(
type: esriFieldTypeDouble, alias: CenterY
)
-
ZOrder
(
type: esriFieldTypeInteger, alias: ZOrder
)
-
Shape_Length
(
type: esriFieldTypeDouble, alias: Shape_Length
)
-
Shape_Area
(
type: esriFieldTypeDouble, alias: Shape_Area
)
-
SurveyID
(
type: esriFieldTypeString, alias: SurveyID, length: 10
)
-
Date
(
type: esriFieldTypeDate, alias: Date, length: 8
)
Default Mosaic Method: ByAttribute
Allowed Mosaic Methods: ByAttribute,None
SortField: Date
SortValue: 0
Mosaic Operator: First
Default Compression Quality: 50000
Default Resampling Method: Bilinear
Max Record Count: 1000
Max Image Height: 20000
Max Image Width: 20000
Max Download Image Count: 20
Max Mosaic Image Count: 999
Allow Raster Function: true
Allow Copy: true
Allow Analysis: true
Allow Compute TiePoints: false
Supports Statistics: true
Supports Advanced Queries: true
Use StandardizedQueries: true
Raster Type Infos:
Name: Raster Dataset
Description: Supports all ArcGIS Raster Datasets
Help:
Has Raster Attribute Table: false
Edit Fields Info: null
Ownership Based AccessControl For Rasters: null
Child Resources:
Info
Histograms
Statistics
Key Properties
Legend
Raster Function Infos
Supported Operations:
Export Image
Query
Identify
Measure
Compute Histograms
Compute Statistics Histograms
Get Samples
Compute Class Statistics
Query Boundary
Compute Pixel Location
Compute Angles
Validate
Project