View In:
ArcGIS JavaScript
ArcGIS Online Map Viewer
ArcGIS Earth
Service Description: EnvironmentalMonitoring/OISST_currenttemps
Name: EnvironmentalMonitoring/OISST_currenttemps
Description:
Single Fused Map Cache: false
Extent:
XMin: 0
YMin: -90
XMax: 360
YMax: 90
Spatial Reference: 4326
(4326)
Initial Extent:
XMin: 0
YMin: -90
XMax: 360
YMax: 90
Spatial Reference: 4326
(4326)
Full Extent:
XMin: 0
YMin: -90
XMax: 360
YMax: 90
Spatial Reference: 4326
(4326)
Pixel Size X: 0.25
Pixel Size Y: 0.25
Band Count: 1
Pixel Type: F32
RasterFunction Infos: {"rasterFunctionInfos": [
{
"name": "OISST_color_ramp",
"description": "A color ramp designed for displaying water temperature in degrees Fahrenheit. Minimum value is 20 degrees and maximum value is 100 degrees.",
"help": ""
},
{
"name": "None",
"description": "",
"help": ""
}
]}
Mensuration Capabilities: Basic
Has Histograms: true
Has Colormap: false
Has Multi Dimensions : false
Rendering Rule:
Min Scale: 0
Max Scale: 0
Copyright Text:
Service Data Type: esriImageServiceDataTypeGeneric
Min Values: 28.760000228882
Max Values: 90.877998352051
Mean Values: 57.220350721001
Standard Deviation Values: 21.624169634647
Object ID Field:
Fields:
None
Default Mosaic Method: Center
Allowed Mosaic Methods:
SortField:
SortValue: null
Mosaic Operator: First
Default Compression Quality: 75
Default Resampling Method: Bilinear
Max Record Count: null
Max Image Height: 4100
Max Image Width: 15000
Max Download Image Count: null
Max Mosaic Image Count: null
Allow Raster Function: true
Allow Copy: true
Allow Analysis: true
Allow Compute TiePoints: false
Supports Statistics: false
Supports Advanced Queries: false
Use StandardizedQueries: true
Raster Type Infos:
Name: Raster Dataset
Description: Supports all ArcGIS Raster Datasets
Help:
Has Raster Attribute Table: false
Edit Fields Info: null
Ownership Based AccessControl For Rasters: null
Child Resources:
Info
Histograms
Statistics
Key Properties
Legend
Raster Function Infos
Supported Operations:
Export Image
Identify
Measure
Compute Histograms
Compute Statistics Histograms
Get Samples
Compute Class Statistics
Query Boundary
Compute Pixel Location
Compute Angles
Validate
Project