View In:
ArcGIS JavaScript
ArcGIS.com Map
Google Earth
ArcMap
ArcGIS Explorer
View Footprint In:
ArcGIS.com Map
Service Description:
Map Name: Layers
Legend
All Layers and Tables
Layers:
Description: Marine Geophysical Trackline Data
NGDC's GEODAS Marine Trackline Geophysics database contains bathymetry, magnetics, gravity and seismic navigation data collected during marine cruises from 1953 to the present. Coverage is worldwide. Data sources include both US and foreign oceanographic institutions and government agencies.
This database is distributed both On-line and on DVD using the GEODAS Search and Retrieval software. Searches by geographic area, year of cruise, institution, platform, cruise, date or parameter are available. Downloads can be customized to area, parameter and format.
Digital data files are in the MGD77 Exchange Format, and contain a documentation header record and a series of data records. Header records document the content and structure of the data records. Data records contain geophysical data (bathymetry, magnetics, gravity and seismic shot-point ids) with time and position.
NGDC also archives analog geophysical data including seismic reflection and refraction, side-scan sonar, and other data types. Analog underway geophysical data are inventoried and searchable through the GEODAS Search and Retrieval software.
NGDC is pleased to accept contributions of underway geophysical data on almost any media, preferably in the MGD77 Format. Any data received are in the international public domain, readily available globally to any interested individual or group.
Copyright Text: For more information, see
http://ngdc.noaa.gov/mgg/geodas/trackline.html
Spatial Reference:
102100
(3857)
Single Fused Map Cache: true
Tile Info:
- Height: 256
- Width: 256
- DPI: 96
-
Levels of Detail: 20
-
Level ID: 0
[ Start Tile, End Tile ]
- Resolution: 156543.03392800014
- Scale: 5.91657527591555E8
-
Level ID: 1
[ Start Tile, End Tile ]
- Resolution: 78271.51696399994
- Scale: 2.95828763795777E8
-
Level ID: 2
[ Start Tile, End Tile ]
- Resolution: 39135.75848200009
- Scale: 1.47914381897889E8
-
Level ID: 3
[ Start Tile, End Tile ]
- Resolution: 19567.87924099992
- Scale: 7.3957190948944E7
-
Level ID: 4
[ Start Tile, End Tile ]
- Resolution: 9783.93962049996
- Scale: 3.6978595474472E7
-
Level ID: 5
[ Start Tile, End Tile ]
- Resolution: 4891.96981024998
- Scale: 1.8489297737236E7
- Format: PNG32
- Compression Quality: 0.0
- Origin: X: -2.0037508342787E7
Y: 2.0037508342787E7
- Spatial Reference: 102100
(3857)
Initial Extent:
XMin: -2.0037507067161843E7
YMin: -1.99718688804086E7
XMax: 2.0037507067161843E7
YMax: 1.99718688804086E7
Spatial Reference: 102100
Full Extent:
XMin: -2.0037507067161843E7
YMin: -1.99718688804086E7
XMax: 2.0037507067161843E7
YMax: 1.99718688804086E7
Spatial Reference: 102100
Units: esriMeters
Supported Image Format Types: PNG32,PNG24,PNG,JPG,DIB,TIFF,EMF,PS,PDF,GIF,SVG,SVGZ,BMP
Document Info:
Title: Trackline Bathymetry
Author:
Comments:
Subject:
Category:
Keywords: bathymetry,gravity,magnetics,seismics,marine geophysics,trackline,GEODAS,ship tracks,NOAA,NGDC
AntialiasingMode: None
TextAntialiasingMode: Force
Supports Dynamic Layers: false
MaxRecordCount: 1000
MaxImageHeight: 2048
MaxImageWidth: 2048
Supported Query Formats: JSON, AMF
Min Scale: 2.95828763795777E8
Max Scale: 4513.988705
Child Resources:
Info
Supported Operations:
Export Map
Identify
Find
Return Updates