View In:
ArcGIS JavaScript
ArcGIS.com Map
Google Earth
ArcMap
ArcGIS Explorer
View Footprint In:
ArcGIS.com Map
Service Description:
Map Name: Layers
Legend
All Layers and Tables
Layers:
Description: A map service displaying the footprints of NOS Hydrographic Surveys. Layer 0: Surveys with BAGs (Bathymetric Attributed Grids).
Layer 1: Surveys with digital data available for download.
Layer 2 (hidden by default): Surveys without digital data available for download.
The National Ocean Service (NOS) Hydrographic Data Base (NOSHDB) and Hydrographic Survey Meta Data Base (HSMDB), both maintained by NOS and NGDC, provide extensive survey coverage and Federal Geographic Data Committee (FGDC) with Remote Sensing Extensions (RSE) metadata of the coastal waters and Exclusive Economic Zone (EEZ) of the United States and its territories. The NOSHDB contains digitized data from smooth sheets of hydrographic surveys completed between 1837 and 1965, and from survey data acquired digitally on NOS survey vessels since 1965.
Data products from NOS surveys, including BAG files, Descriptive Reports, smooth sheet images, survey data images, textual gridded data, and geo-referenced sidescan sonar mosaics, FGDC/RSE metadata, and survey statistics are available for download from NGDC. The corresponding map service showing color-hillshade visualizations of the BAGs (Bathymetric Attributed Grids) is available here: http://maps.ngdc.noaa.gov/rest/services/web_mercator/bag_hillshades/MapServer. For more information about NOS Hydrographic Survey data available at NGDC, please see: http://ngdc.noaa.gov/mgg/bathymetry/hydro.html
Copyright Text:
Spatial Reference:
102100
(3857)
Single Fused Map Cache: true
Tile Info:
- Height: 256
- Width: 256
- DPI: 96
-
Levels of Detail: 20
-
Level ID: 0
[ Start Tile, End Tile ]
- Resolution: 156543.03392800014
- Scale: 5.91657527591555E8
-
Level ID: 1
[ Start Tile, End Tile ]
- Resolution: 78271.51696399994
- Scale: 2.95828763795777E8
-
Level ID: 2
[ Start Tile, End Tile ]
- Resolution: 39135.75848200009
- Scale: 1.47914381897889E8
-
Level ID: 3
[ Start Tile, End Tile ]
- Resolution: 19567.87924099992
- Scale: 7.3957190948944E7
-
Level ID: 4
[ Start Tile, End Tile ]
- Resolution: 9783.93962049996
- Scale: 3.6978595474472E7
-
Level ID: 5
[ Start Tile, End Tile ]
- Resolution: 4891.96981024998
- Scale: 1.8489297737236E7
- Format: PNG32
- Compression Quality: 0.0
- Origin: X: -2.0037508342787E7
Y: 2.0037508342787E7
- Spatial Reference: 102100
(3857)
Initial Extent:
XMin: -2.0037507067161843E7
YMin: -1.99718688804086E7
XMax: 2.0037507067161843E7
YMax: 1.99718688804086E7
Spatial Reference: 102100
Full Extent:
XMin: -2.0037507067161843E7
YMin: -1.99718688804086E7
XMax: 2.0037507067161843E7
YMax: 1.99718688804086E7
Spatial Reference: 102100
Units: esriMeters
Supported Image Format Types: PNG32,PNG24,PNG,JPG,DIB,TIFF,EMF,PS,PDF,GIF,SVG,SVGZ,BMP
Document Info:
Title: NOS Hydrographic Surveys
Author:
Comments:
Subject: Footprints of National Ocean Service (NOS) Hydrographic Surveys
Category:
Keywords: NOAA,NGDC,NOS,Hydrographic Surveys,NOS Hydro,Bathymetry,Hydrography,coastal,BAG,CMSP,HSMDB,NOSHDB
AntialiasingMode: None
TextAntialiasingMode: Force
Supports Dynamic Layers: false
MaxRecordCount: 1000
MaxImageHeight: 2048
MaxImageWidth: 2048
Supported Query Formats: JSON, AMF
Min Scale: 2.95828763795777E8
Max Scale: 4513.988705
Child Resources:
Info
Supported Operations:
Export Map
Identify
Find
Return Updates