View In:
ArcGIS JavaScript
ArcGIS.com Map
Google Earth
ArcMap
ArcGIS Explorer
View Footprint In:
ArcGIS.com Map
Service Description:
Map Name: Layers
Legend
All Layers and Tables
Layers:
Description: A map service providing a color shaded relief visualization of the General Bathymetric Chart of the Oceans GEBCO_08 grid (version 20100927), combined with generalized land cover coloration from the Natural Earth 2 dataset. NOTE: Data from the GEBCO_08 grid shall not to be used for navigation or for any other purpose relating to safety at sea. The GEBCO_08 Grid is largely based on a database of ship-track soundings with interpolation between soundings guided by satellite-derived gravity data. In some areas, data from existing grids are included. The GEBCO_08 Grid does not contain detailed information in shallower water areas. Information concerning the generation of the grid can be found on GEBCO’s web site: http://www.gebco.net/data_and_products/gridded_bathymetry_data/. The GEBCO_08 Grid is accompanied by a Source Identifier (SID) Grid which indicates which cells in the GEBCO_08 Grid are based on soundings or existing grids and which have been interpolated. The latest version of both grids and accompanying documentation is available to download, on behalf of GEBCO, from the British Oceanographic Data Centre (BODC) https://www.bodc.ac.uk/data/online_delivery/gebco/.
The Natural Earth 2 imagery and lake polygons were obtained from http://naturalearthdata.com.
The coastline displayed (excluding Antarctica) is from the GSHHG dataset: http://www.ngdc.noaa.gov/mgg/shorelines/gshhs.html
Copyright Text: GEBCO, NOAA/NGDC, Natural Earth
Spatial Reference:
102100
(3857)
Single Fused Map Cache: true
Tile Info:
- Height: 256
- Width: 256
- DPI: 96
-
Levels of Detail: 20
-
Level ID: 0
[ Start Tile, End Tile ]
- Resolution: 156543.03392800014
- Scale: 5.91657527591555E8
-
Level ID: 1
[ Start Tile, End Tile ]
- Resolution: 78271.51696399994
- Scale: 2.95828763795777E8
-
Level ID: 2
[ Start Tile, End Tile ]
- Resolution: 39135.75848200009
- Scale: 1.47914381897889E8
-
Level ID: 3
[ Start Tile, End Tile ]
- Resolution: 19567.87924099992
- Scale: 7.3957190948944E7
-
Level ID: 4
[ Start Tile, End Tile ]
- Resolution: 9783.93962049996
- Scale: 3.6978595474472E7
-
Level ID: 5
[ Start Tile, End Tile ]
- Resolution: 4891.96981024998
- Scale: 1.8489297737236E7
- Format: JPEG
- Compression Quality: 90.0
- Origin: X: -2.0037508342787E7
Y: 2.0037508342787E7
- Spatial Reference: 102100
(3857)
Initial Extent:
XMin: 9776369.020655531
YMin: 2477856.9859986957
XMax: 1.3748648506578516E7
YMax: 4605863.853457438
Spatial Reference: 102100
Full Extent:
XMin: -2.00375082314698E7
YMin: -1.99718688804086E7
XMax: 2.00375082314698E7
YMax: 1.99718688804086E7
Spatial Reference: 102100
Units: esriMeters
Supported Image Format Types: PNG32,PNG24,PNG,JPG,DIB,TIFF,EMF,PS,PDF,GIF,SVG,SVGZ,BMP
Document Info:
Title:
Author:
Comments:
Subject:
Category:
Keywords:
AntialiasingMode: None
TextAntialiasingMode: Force
Supports Dynamic Layers: false
MaxRecordCount: 1000
MaxImageHeight: 2048
MaxImageWidth: 2048
Supported Query Formats: JSON, AMF
Min Scale: 2.95828763795777E8
Max Scale: 4513.988705
Child Resources:
Info
Supported Operations:
Export Map
Identify
Find
Return Updates