View In:
ArcGIS JavaScript
ArcGIS.com Map
Google Earth
ArcMap
ArcGIS Explorer
View Footprint In:
ArcGIS.com Map
Service Description:
Map Name: Layers
Legend
All Layers and Tables
Layers:
Description:
Copyright Text:
Spatial Reference:
4326
(4326)
Single Fused Map Cache: true
Tile Info:
- Height: 512
- Width: 512
- DPI: 96
-
Levels of Detail: 16
-
Level ID: 0
[ Start Tile, End Tile ]
- Resolution: 0.351562499999999
- Scale: 1.47748799285417E8
-
Level ID: 2
[ Start Tile, End Tile ]
- Resolution: 0.0878906250000001
- Scale: 3.69371998213544E7
-
Level ID: 7
[ Start Tile, End Tile ]
- Resolution: 0.00274658203124999
- Scale: 1154287.49441732
-
Level ID: 8
[ Start Tile, End Tile ]
- Resolution: 0.001373291015625
- Scale: 577143.747208662
-
Level ID: 9
[ Start Tile, End Tile ]
- Resolution: 6.866455078125E-4
- Scale: 288571.873604331
-
Level ID: 10
[ Start Tile, End Tile ]
- Resolution: 3.43322753906249E-4
- Scale: 144285.936802165
-
Level ID: 11
[ Start Tile, End Tile ]
- Resolution: 1.71661376953125E-4
- Scale: 72142.9684010827
-
Level ID: 12
[ Start Tile, End Tile ]
- Resolution: 8.58306884765626E-5
- Scale: 36071.4842005414
-
Level ID: 13
[ Start Tile, End Tile ]
- Resolution: 4.29153442382813E-5
- Scale: 18035.7421002707
-
Level ID: 14
[ Start Tile, End Tile ]
- Resolution: 2.14576721191406E-5
- Scale: 9017.87105013534
-
Level ID: 15
[ Start Tile, End Tile ]
- Resolution: 1.07288360595703E-5
- Scale: 4508.93552506767
- Format: JPEG
- Compression Quality: 90.0
- Origin: X: -180.0
Y: 90.0
- Spatial Reference: 4326
(4326)
Initial Extent:
XMin: -320.51250000000005
YMin: -79.81875000000008
XMax: 320.51250000000005
YMax: 456.0187500000001
Spatial Reference: 4326
Full Extent:
XMin: -180
YMin: -90
XMax: 180
YMax: 90
Spatial Reference: 4326
Units: esriDecimalDegrees
Supported Image Format Types: PNG32,PNG24,PNG,JPG,DIB,TIFF,EMF,PS,PDF,GIF,SVG,SVGZ,BMP
Document Info:
Title:
Author:
Comments:
Subject:
Category:
Keywords: bathymetry,elevation
AntialiasingMode: None
TextAntialiasingMode: Force
Supports Dynamic Layers: false
MaxRecordCount: 1000
MaxImageHeight: 2048
MaxImageWidth: 2048
Supported Query Formats: JSON, AMF
Min Scale: 2.95828763795777E8
Max Scale: 4513.988705
Child Resources:
Info
Supported Operations:
Export Map
Identify
Find
Return Updates