View In:
ArcGIS JavaScript
ArcGIS.com Map
Google Earth
ArcMap
ArcGIS Explorer
View Footprint In:
ArcGIS.com Map
Service Description:
Map Name: Layers
Legend
All Layers and Tables
Layers:
Description: GSHHS - A Global Self-consistent, Hierarchical, High-resolution Shoreline Database. GSHHS is a high-resolution shoreline data set amalgamated from two databases in the public domain. The data have undergone extensive processing and are free of internal inconsistencies such as erratic points and crossing segments. The shorelines are constructed entirely from hierarchically arranged closed polygons. The data can be used to simplify data searches and data selections, or to study the statistical characteristics of shorelines and land-masses. It comes with access software and routines to facilitate decimation based on a standard line-reduction algorithm.
Copyright Text: http://www.ngdc.noaa.gov/mgg/shorelines/gshhs.html
Spatial Reference:
3572
(3572)
Single Fused Map Cache: true
Tile Info:
- Height: 256
- Width: 256
- DPI: 96
-
Levels of Detail: 10
-
Level ID: 1
[ Start Tile, End Tile ]
- Resolution: 19567.880000634977
- Scale: 7.39571938199999E7
- Format: JPEG
- Compression Quality: 90.0
- Origin: X: -1.27422E7
Y: 1.27422E7
- Spatial Reference: 3572
(3572)
Initial Extent:
XMin: -6486320.82608643
YMin: -6485942.31407885
XMax: 6486655.95236211
YMax: 6486510.25174298
Spatial Reference: 3572
(3572)
Full Extent:
XMin: -6486320.82608643
YMin: -6485942.31407885
XMax: 6486655.95236211
YMax: 6486510.25174298
Spatial Reference: 3572
(3572)
Units: esriMeters
Supported Image Format Types: PNG32,PNG24,PNG,JPG,DIB,TIFF,EMF,PS,PDF,GIF,SVG,SVGZ,BMP
Document Info:
Title: gshhs_pdcmercator
Author: jvarner
Comments:
Subject:
Category:
Keywords:
AntialiasingMode: None
TextAntialiasingMode: Force
Supports Dynamic Layers: false
MaxRecordCount: 1000
MaxImageHeight: 2048
MaxImageWidth: 2048
Supported Query Formats: JSON, AMF
Min Scale: 1.47914381897889E8
Max Scale: 4513.988705
Child Resources:
Info
Supported Operations:
Export Map
Identify
Find
Return Updates